BEGIN:VCALENDAR
VERSION:2.0
PRODID:-//Holy Cross Episcopal Church - ECPv6.11.2.1//NONSGML v1.0//EN
CALSCALE:GREGORIAN
METHOD:PUBLISH
X-ORIGINAL-URL:https://churchholycross.org
X-WR-CALDESC:Events for Holy Cross Episcopal Church
REFRESH-INTERVAL;VALUE=DURATION:PT1H
X-Robots-Tag:noindex
X-PUBLISHED-TTL:PT1H
BEGIN:VTIMEZONE
TZID:America/Chicago
BEGIN:DAYLIGHT
TZOFFSETFROM:-0600
TZOFFSETTO:-0500
TZNAME:CDT
DTSTART:20220313T080000
END:DAYLIGHT
BEGIN:STANDARD
TZOFFSETFROM:-0500
TZOFFSETTO:-0600
TZNAME:CST
DTSTART:20221106T070000
END:STANDARD
END:VTIMEZONE
BEGIN:VEVENT
DTSTART;TZID=America/Chicago:20220615T120000
DTEND;TZID=America/Chicago:20220615T123000
DTSTAMP:20260421T040045
CREATED:20220614T214209Z
LAST-MODIFIED:20220626T041928Z
UID:8072-1655294400-1655296200@churchholycross.org
SUMMARY:Wed. Noon Service
DESCRIPTION:Wednesday Noon Service. The Holy Eucharist Rite II in the Chapel.
URL:https://churchholycross.org/event/wednesday-noon-service/
LOCATION:Chapel\, 875 Cotton St.\, Shreveport\,\, LA\, 71101\, United States
CATEGORIES:Weekday Service
ATTACH;FMTTYPE=image/jpeg:https://churchholycross.org/wp-content/uploads/2022/06/Event-WednesdayNoon.jpg
END:VEVENT
BEGIN:VEVENT
DTSTART;TZID=America/Chicago:20220629T180000
DTEND;TZID=America/Chicago:20220629T200000
DTSTAMP:20260421T040045
CREATED:20220621T170019Z
LAST-MODIFIED:20220626T040244Z
UID:8632-1656525600-1656532800@churchholycross.org
SUMMARY:Pride Mass † June 29
DESCRIPTION:Pride Mass † Wednesday\, June 29 at 6 pm\nReception following the service with Happy Belly’s Italian Ice \nWhy a Pride Mass?\nThere has been a great deal of trauma dealt to the LGBT community because of the Church. In an effort to restore all people to union with God and each other in Christ\, we believe we must explicitly name\, welcome\, and affirm those who are LGBT. It’s important that LGBT people are told that\, far from being disappointed\, God has given them unique gifts for the benefit of the Church and the world. \nHistory of Pride Mass.\nThe very first Pride Mass was at St. Paul the Apostle (Roman Catholic) in Manhattan in 1993. That service erupted into chaos when shouting protestors injured the priest in an attempt to rip off his lapel mic. Since then\, they have become more prevalent in The Episcopal Church. At this point\, almost every diocese has at least one parish hosting a Pride Mass. Holy Cross was the first parish in this diocese to host such a service in June 2019. \nPride mass at Holy Cross.\nSince the advent of the AIDS crisis\, Holy Cross has marked itself as a parish deeply involved in the inclusion\, protection\, and affirmation of LGBT people. In the 1980s\, Holy Cross was one of the few\, if not the only\, churches that would bury AIDS patients. Our members were instrumental in founding the Philadelphia Center and the Mercy Center\, and we remain significant supporters to this day. Throughout our history\, we have been a place of welcome to LGBT people in Shreveport. We were one of the first parishes to apply to do Same Sex Marriages during the trial period before its legalization. We were the first parish to elect an openly gay rector. We were the first parish to celebrate a Pride Mass. And while we are proud to be first\, we are determined not to be the last
URL:https://churchholycross.org/event/pridemass/
LOCATION:Holy Cross\, 875 Cotton St\, Shreveport\, LA\, 71101\, United States
CATEGORIES:Weekday Service
ATTACH;FMTTYPE=image/jpeg:https://churchholycross.org/wp-content/uploads/2022/06/Event-Pride.jpg
END:VEVENT
END:VCALENDAR